BEGIN:VCALENDAR
VERSION:2.0
PRODID:-//Trinity Episcopal Church - ECPv6.15.20//NONSGML v1.0//EN
CALSCALE:GREGORIAN
METHOD:PUBLISH
X-WR-CALNAME:Trinity Episcopal Church
X-ORIGINAL-URL:https://trinityportsmouth.org
X-WR-CALDESC:Events for Trinity Episcopal Church
REFRESH-INTERVAL;VALUE=DURATION:PT1H
X-Robots-Tag:noindex
X-PUBLISHED-TTL:PT1H
BEGIN:VTIMEZONE
TZID:America/New_York
BEGIN:DAYLIGHT
TZOFFSETFROM:-0500
TZOFFSETTO:-0400
TZNAME:EDT
DTSTART:20240310T070000
END:DAYLIGHT
BEGIN:STANDARD
TZOFFSETFROM:-0400
TZOFFSETTO:-0500
TZNAME:EST
DTSTART:20241103T060000
END:STANDARD
BEGIN:DAYLIGHT
TZOFFSETFROM:-0500
TZOFFSETTO:-0400
TZNAME:EDT
DTSTART:20250309T070000
END:DAYLIGHT
BEGIN:STANDARD
TZOFFSETFROM:-0400
TZOFFSETTO:-0500
TZNAME:EST
DTSTART:20251102T060000
END:STANDARD
BEGIN:DAYLIGHT
TZOFFSETFROM:-0500
TZOFFSETTO:-0400
TZNAME:EDT
DTSTART:20260308T070000
END:DAYLIGHT
BEGIN:STANDARD
TZOFFSETFROM:-0400
TZOFFSETTO:-0500
TZNAME:EST
DTSTART:20261101T060000
END:STANDARD
END:VTIMEZONE
BEGIN:VEVENT
DTSTART;TZID=America/New_York:20250105T080000
DTEND;TZID=America/New_York:20250105T090000
DTSTAMP:20260421T051536
CREATED:20250103T212013Z
LAST-MODIFIED:20250103T212024Z
UID:10004027-1736064000-1736067600@trinityportsmouth.org
SUMMARY:Holy Eucharist Rite I
DESCRIPTION:Holy Eucharist\, Rite I (Traditional Language) in All Saints’ Chapel  \n\n\n\nThis is a quiet/contemplative service with no music.
URL:https://trinityportsmouth.org/event/holy-eucharist-rite-i-3/2025-01-05/
LOCATION:Trinity Episcopal Church\, 500 Court St.\, Portsmouth\, VA\, 23704\, United States
GEO:36.8351265;-76.3011729
X-APPLE-STRUCTURED-LOCATION;VALUE=URI;X-ADDRESS=Trinity Episcopal Church 500 Court St. Portsmouth VA 23704 United States;X-APPLE-RADIUS=500;X-TITLE=500 Court St.:geo:-76.3011729,36.8351265
END:VEVENT
BEGIN:VEVENT
DTSTART;TZID=America/New_York:20250105T103000
DTEND;TZID=America/New_York:20250105T111500
DTSTAMP:20260421T051536
CREATED:20250106T215950Z
LAST-MODIFIED:20250106T215959Z
UID:10004136-1736073000-1736075700@trinityportsmouth.org
SUMMARY:Godly Play
DESCRIPTION:Godly Play is a Montessori-based curriculum that encourages children to wonder when they engage the stories of our Faith.  This is class is interactive and creative.  Godly Play is available for ages 5-11. For more information\, email kitty@trinity-portsmouth.org or visit godlyplayfoundation.org.
URL:https://trinityportsmouth.org/event/godly-play-5/2025-01-05/
LOCATION:Trinity Episcopal Church\, 500 Court St.\, Portsmouth\, VA\, 23704\, United States
GEO:36.8351265;-76.3011729
X-APPLE-STRUCTURED-LOCATION;VALUE=URI;X-ADDRESS=Trinity Episcopal Church 500 Court St. Portsmouth VA 23704 United States;X-APPLE-RADIUS=500;X-TITLE=500 Court St.:geo:-76.3011729,36.8351265
END:VEVENT
BEGIN:VEVENT
DTSTART;TZID=America/New_York:20250105T103000
DTEND;TZID=America/New_York:20250105T113000
DTSTAMP:20260421T051536
CREATED:20241031T133322Z
LAST-MODIFIED:20241031T133543Z
UID:10003739-1736073000-1736076600@trinityportsmouth.org
SUMMARY:Holy Eucharist\, Rite II
DESCRIPTION:Holy Eucharist\, Rite II with Choir and Organ. This service takes place in the Church and is attended by the majority of our parishioners.
URL:https://trinityportsmouth.org/event/holy-eucharist-rite-ii/2025-01-05/
LOCATION:Trinity Episcopal Church\, 500 Court St.\, Portsmouth\, VA\, 23704\, United States
GEO:36.8351265;-76.3011729
X-APPLE-STRUCTURED-LOCATION;VALUE=URI;X-ADDRESS=Trinity Episcopal Church 500 Court St. Portsmouth VA 23704 United States;X-APPLE-RADIUS=500;X-TITLE=500 Court St.:geo:-76.3011729,36.8351265
END:VEVENT
BEGIN:VEVENT
DTSTART;TZID=America/New_York:20250105T120000
DTEND;TZID=America/New_York:20250105T120000
DTSTAMP:20260421T051536
CREATED:20230912T174052Z
LAST-MODIFIED:20230912T174054Z
UID:10003012-1736078400-1736078400@trinityportsmouth.org
SUMMARY:Hospitality Meeting
DESCRIPTION:Join our Hospitality Guild as they plan for upcoming events.
URL:https://trinityportsmouth.org/event/hospitality-meeting-2/2025-01-05/
END:VEVENT
BEGIN:VEVENT
DTSTART;TZID=America/New_York:20250107T183000
DTEND;TZID=America/New_York:20250107T203000
DTSTAMP:20260421T051536
CREATED:20250103T211730Z
LAST-MODIFIED:20250106T223219Z
UID:10004360-1736274600-1736281800@trinityportsmouth.org
SUMMARY:Brotherhood & Ladies Night Out
DESCRIPTION:Join us for fun and fellowship every first Tuesday of the month at 6:30 pm. Email admin@trinity-portsmouth.org for more information or to RSVP.
URL:https://trinityportsmouth.org/event/brotherhood-ladies-night-out-3/2025-01-07/
END:VEVENT
BEGIN:VEVENT
DTSTART;TZID=America/New_York:20250108T180000
DTEND;TZID=America/New_York:20250108T200000
DTSTAMP:20260421T051536
CREATED:20250106T215653Z
LAST-MODIFIED:20250106T215702Z
UID:10004082-1736359200-1736366400@trinityportsmouth.org
SUMMARY:Trinity Youth
DESCRIPTION:
URL:https://trinityportsmouth.org/event/trinity-youth-6/2025-01-08/
END:VEVENT
END:VCALENDAR