BEGIN:VCALENDAR
VERSION:2.0
PRODID:-//Trinity Episcopal Church - ECPv6.15.20//NONSGML v1.0//EN
CALSCALE:GREGORIAN
METHOD:PUBLISH
X-ORIGINAL-URL:https://trinityportsmouth.org
X-WR-CALDESC:Events for Trinity Episcopal Church
REFRESH-INTERVAL;VALUE=DURATION:PT1H
X-Robots-Tag:noindex
X-PUBLISHED-TTL:PT1H
BEGIN:VTIMEZONE
TZID:America/New_York
BEGIN:DAYLIGHT
TZOFFSETFROM:-0500
TZOFFSETTO:-0400
TZNAME:EDT
DTSTART:20230312T070000
END:DAYLIGHT
BEGIN:STANDARD
TZOFFSETFROM:-0400
TZOFFSETTO:-0500
TZNAME:EST
DTSTART:20231105T060000
END:STANDARD
BEGIN:DAYLIGHT
TZOFFSETFROM:-0500
TZOFFSETTO:-0400
TZNAME:EDT
DTSTART:20240310T070000
END:DAYLIGHT
BEGIN:STANDARD
TZOFFSETFROM:-0400
TZOFFSETTO:-0500
TZNAME:EST
DTSTART:20241103T060000
END:STANDARD
BEGIN:DAYLIGHT
TZOFFSETFROM:-0500
TZOFFSETTO:-0400
TZNAME:EDT
DTSTART:20250309T070000
END:DAYLIGHT
BEGIN:STANDARD
TZOFFSETFROM:-0400
TZOFFSETTO:-0500
TZNAME:EST
DTSTART:20251102T060000
END:STANDARD
END:VTIMEZONE
BEGIN:VEVENT
DTSTART;TZID=America/New_York:20240225T080000
DTEND;TZID=America/New_York:20240225T090000
DTSTAMP:20260421T145448
CREATED:20231205T200245Z
LAST-MODIFIED:20231205T200254Z
UID:10003556-1708848000-1708851600@trinityportsmouth.org
SUMMARY:Holy Eucharist Rite I
DESCRIPTION:Holy Eucharist\, Rite I (Traditional Language) in All Saints’ Chapel  \n\n\n\nThis is a quiet/contemplative service with no music.
URL:https://trinityportsmouth.org/event/holy-eucharist-rite-i/2024-02-25/
LOCATION:Trinity Episcopal Church\, 500 Court St.\, Portsmouth\, VA\, 23704\, United States
GEO:36.8351265;-76.3011729
X-APPLE-STRUCTURED-LOCATION;VALUE=URI;X-ADDRESS=Trinity Episcopal Church 500 Court St. Portsmouth VA 23704 United States;X-APPLE-RADIUS=500;X-TITLE=500 Court St.:geo:-76.3011729,36.8351265
END:VEVENT
BEGIN:VEVENT
DTSTART;TZID=America/New_York:20240225T090000
DTEND;TZID=America/New_York:20240225T101500
DTSTAMP:20260421T145448
CREATED:20230912T124755Z
LAST-MODIFIED:20240611T160811Z
UID:10002949-1708851600-1708856100@trinityportsmouth.org
SUMMARY:Trinity Youth
DESCRIPTION:Children ages 12+ are invited to join us for fellowship on Sunday mornings!
URL:https://trinityportsmouth.org/event/trinity-youth-3/2024-02-25/
END:VEVENT
BEGIN:VEVENT
DTSTART;TZID=America/New_York:20240225T101500
DTEND;TZID=America/New_York:20240225T120000
DTSTAMP:20260421T145448
CREATED:20230404T184036Z
LAST-MODIFIED:20230404T184038Z
UID:10002590-1708856100-1708862400@trinityportsmouth.org
SUMMARY:Nursery
DESCRIPTION:Nursery is available for children 0-5 every Sunday.
URL:https://trinityportsmouth.org/event/nursery/2024-02-25/
LOCATION:Trinity Episcopal Church\, 500 Court St.\, Portsmouth\, VA\, 23704\, United States
GEO:36.8351265;-76.3011729
X-APPLE-STRUCTURED-LOCATION;VALUE=URI;X-ADDRESS=Trinity Episcopal Church 500 Court St. Portsmouth VA 23704 United States;X-APPLE-RADIUS=500;X-TITLE=500 Court St.:geo:-76.3011729,36.8351265
END:VEVENT
BEGIN:VEVENT
DTSTART;TZID=America/New_York:20240225T103000
DTEND;TZID=America/New_York:20240225T111500
DTSTAMP:20260421T145448
CREATED:20230911T185559Z
LAST-MODIFIED:20240611T160906Z
UID:10002887-1708857000-1708859700@trinityportsmouth.org
SUMMARY:Godly Play
DESCRIPTION:Godly Play is a Montessori-based curriculum that encourages children to wonder when they engage the stories of our Faith.  This is class is interactive and creative.  Godly Play is available for ages 5-11. For more information\, email kitty@trinity-portsmouth.org or visit godlyplayfoundation.org.
URL:https://trinityportsmouth.org/event/godly-play-4/2024-02-25/
LOCATION:Trinity Episcopal Church\, 500 Court St.\, Portsmouth\, VA\, 23704\, United States
GEO:36.8351265;-76.3011729
X-APPLE-STRUCTURED-LOCATION;VALUE=URI;X-ADDRESS=Trinity Episcopal Church 500 Court St. Portsmouth VA 23704 United States;X-APPLE-RADIUS=500;X-TITLE=500 Court St.:geo:-76.3011729,36.8351265
END:VEVENT
BEGIN:VEVENT
DTSTART;TZID=America/New_York:20240225T103000
DTEND;TZID=America/New_York:20240225T113000
DTSTAMP:20260421T145448
CREATED:20231205T194655Z
LAST-MODIFIED:20231205T195630Z
UID:10003454-1708857000-1708860600@trinityportsmouth.org
SUMMARY:Holy Eucharist\, Rite II
DESCRIPTION:Holy Eucharist\, Rite II with Choir and Organ. This service takes place in the Church and is attended by the majority of our parishioners.
URL:https://trinityportsmouth.org/event/holy-eucharist-rite-ii-5/2024-02-25/
LOCATION:Trinity Episcopal Church\, 500 Court St.\, Portsmouth\, VA\, 23704\, United States
GEO:36.8351265;-76.3011729
X-APPLE-STRUCTURED-LOCATION;VALUE=URI;X-ADDRESS=Trinity Episcopal Church 500 Court St. Portsmouth VA 23704 United States;X-APPLE-RADIUS=500;X-TITLE=500 Court St.:geo:-76.3011729,36.8351265
END:VEVENT
BEGIN:VEVENT
DTSTART;TZID=America/New_York:20240225T113000
DTEND;TZID=America/New_York:20240225T130000
DTSTAMP:20260421T145448
CREATED:20240124T194157Z
LAST-MODIFIED:20240124T194157Z
UID:10003590-1708860600-1708866000@trinityportsmouth.org
SUMMARY:Girl Scout Cookie Sale!
DESCRIPTION:Purchase Girl Scout Cookies from our local troop during coffee hour after our 10:30 am Eucharist!
URL:https://trinityportsmouth.org/event/girl-scout-cookie-sale/2024-02-25/
END:VEVENT
BEGIN:VEVENT
DTSTART;TZID=America/New_York:20240228T173000
DTEND;TZID=America/New_York:20240228T200000
DTSTAMP:20260421T145448
CREATED:20240125T134055Z
LAST-MODIFIED:20240131T155952Z
UID:10003593-1709141400-1709150400@trinityportsmouth.org
SUMMARY:Lenten Supper Series
DESCRIPTION:Join us on Wednesday evenings during Lent for a virtual journey through Israel. Fr. Grant will discuss the historical sites he visited on his tour across the country last year and how they play a role in modern and ancient history. The program will begin with Eucharist at 5:30 pm\, followed by dinner at 6 pm\, and discussion at 6:30 pm. Please come any time you are able and for any Wednesdays you are available. Use the link provided to sign up to bring a soup or bread to share for dinner.
URL:https://trinityportsmouth.org/event/lenten-supper-series/2024-02-28/
END:VEVENT
BEGIN:VEVENT
DTSTART;TZID=America/New_York:20240302T100000
DTEND;TZID=America/New_York:20240302T120000
DTSTAMP:20260421T145448
CREATED:20240227T134132Z
LAST-MODIFIED:20240227T134148Z
UID:10003610-1709373600-1709380800@trinityportsmouth.org
SUMMARY:Create Class - Landscape Painting
DESCRIPTION:Create Class will meet March 2 from 10 am to noon with guest teacher Dallas LeFever\, who will lead us in a guided landscape painting. Adults\, teens\, and interested children ages 8+ are invited to paint. No experience is necessary. All supplies are provided. Participants must RSVP in advance and pay $10 for supplies.  \n\n\n\nCreate Class is for all ages! Look for our Kids Create class next month for ages 3 to 13.  \n\n\n\nSee less
URL:https://trinityportsmouth.org/event/create-class-landscape-painting/
END:VEVENT
END:VCALENDAR