BEGIN:VCALENDAR
VERSION:2.0
PRODID:-//Trinity Episcopal Church - ECPv6.15.20//NONSGML v1.0//EN
CALSCALE:GREGORIAN
METHOD:PUBLISH
X-ORIGINAL-URL:https://trinityportsmouth.org
X-WR-CALDESC:Events for Trinity Episcopal Church
REFRESH-INTERVAL;VALUE=DURATION:PT1H
X-Robots-Tag:noindex
X-PUBLISHED-TTL:PT1H
BEGIN:VTIMEZONE
TZID:America/New_York
BEGIN:DAYLIGHT
TZOFFSETFROM:-0500
TZOFFSETTO:-0400
TZNAME:EDT
DTSTART:20230312T070000
END:DAYLIGHT
BEGIN:STANDARD
TZOFFSETFROM:-0400
TZOFFSETTO:-0500
TZNAME:EST
DTSTART:20231105T060000
END:STANDARD
BEGIN:DAYLIGHT
TZOFFSETFROM:-0500
TZOFFSETTO:-0400
TZNAME:EDT
DTSTART:20240310T070000
END:DAYLIGHT
BEGIN:STANDARD
TZOFFSETFROM:-0400
TZOFFSETTO:-0500
TZNAME:EST
DTSTART:20241103T060000
END:STANDARD
BEGIN:DAYLIGHT
TZOFFSETFROM:-0500
TZOFFSETTO:-0400
TZNAME:EDT
DTSTART:20250309T070000
END:DAYLIGHT
BEGIN:STANDARD
TZOFFSETFROM:-0400
TZOFFSETTO:-0500
TZNAME:EST
DTSTART:20251102T060000
END:STANDARD
END:VTIMEZONE
BEGIN:VEVENT
DTSTART;TZID=America/New_York:20240218T080000
DTEND;TZID=America/New_York:20240218T090000
DTSTAMP:20260421T182950
CREATED:20231205T200245Z
LAST-MODIFIED:20231205T200254Z
UID:10003555-1708243200-1708246800@trinityportsmouth.org
SUMMARY:Holy Eucharist Rite I
DESCRIPTION:Holy Eucharist\, Rite I (Traditional Language) in All Saints’ Chapel  \n\n\n\nThis is a quiet/contemplative service with no music.
URL:https://trinityportsmouth.org/event/holy-eucharist-rite-i/2024-02-18/
LOCATION:Trinity Episcopal Church\, 500 Court St.\, Portsmouth\, VA\, 23704\, United States
GEO:36.8351265;-76.3011729
X-APPLE-STRUCTURED-LOCATION;VALUE=URI;X-ADDRESS=Trinity Episcopal Church 500 Court St. Portsmouth VA 23704 United States;X-APPLE-RADIUS=500;X-TITLE=500 Court St.:geo:-76.3011729,36.8351265
END:VEVENT
BEGIN:VEVENT
DTSTART;TZID=America/New_York:20240218T090000
DTEND;TZID=America/New_York:20240218T101500
DTSTAMP:20260421T182950
CREATED:20230912T124755Z
LAST-MODIFIED:20240611T160811Z
UID:10002948-1708246800-1708251300@trinityportsmouth.org
SUMMARY:Trinity Youth
DESCRIPTION:Children ages 12+ are invited to join us for fellowship on Sunday mornings!
URL:https://trinityportsmouth.org/event/trinity-youth-3/2024-02-18/
END:VEVENT
BEGIN:VEVENT
DTSTART;TZID=America/New_York:20240218T101500
DTEND;TZID=America/New_York:20240218T120000
DTSTAMP:20260421T182950
CREATED:20230404T184036Z
LAST-MODIFIED:20230404T184038Z
UID:10002589-1708251300-1708257600@trinityportsmouth.org
SUMMARY:Nursery
DESCRIPTION:Nursery is available for children 0-5 every Sunday.
URL:https://trinityportsmouth.org/event/nursery/2024-02-18/
LOCATION:Trinity Episcopal Church\, 500 Court St.\, Portsmouth\, VA\, 23704\, United States
GEO:36.8351265;-76.3011729
X-APPLE-STRUCTURED-LOCATION;VALUE=URI;X-ADDRESS=Trinity Episcopal Church 500 Court St. Portsmouth VA 23704 United States;X-APPLE-RADIUS=500;X-TITLE=500 Court St.:geo:-76.3011729,36.8351265
END:VEVENT
BEGIN:VEVENT
DTSTART;TZID=America/New_York:20240218T103000
DTEND;TZID=America/New_York:20240218T111500
DTSTAMP:20260421T182950
CREATED:20230911T185559Z
LAST-MODIFIED:20240611T160906Z
UID:10002886-1708252200-1708254900@trinityportsmouth.org
SUMMARY:Godly Play
DESCRIPTION:Godly Play is a Montessori-based curriculum that encourages children to wonder when they engage the stories of our Faith.  This is class is interactive and creative.  Godly Play is available for ages 5-11. For more information\, email kitty@trinity-portsmouth.org or visit godlyplayfoundation.org.
URL:https://trinityportsmouth.org/event/godly-play-4/2024-02-18/
LOCATION:Trinity Episcopal Church\, 500 Court St.\, Portsmouth\, VA\, 23704\, United States
GEO:36.8351265;-76.3011729
X-APPLE-STRUCTURED-LOCATION;VALUE=URI;X-ADDRESS=Trinity Episcopal Church 500 Court St. Portsmouth VA 23704 United States;X-APPLE-RADIUS=500;X-TITLE=500 Court St.:geo:-76.3011729,36.8351265
END:VEVENT
BEGIN:VEVENT
DTSTART;TZID=America/New_York:20240218T103000
DTEND;TZID=America/New_York:20240218T113000
DTSTAMP:20260421T182950
CREATED:20231205T194655Z
LAST-MODIFIED:20231205T195630Z
UID:10003453-1708252200-1708255800@trinityportsmouth.org
SUMMARY:Holy Eucharist\, Rite II
DESCRIPTION:Holy Eucharist\, Rite II with Choir and Organ. This service takes place in the Church and is attended by the majority of our parishioners.
URL:https://trinityportsmouth.org/event/holy-eucharist-rite-ii-5/2024-02-18/
LOCATION:Trinity Episcopal Church\, 500 Court St.\, Portsmouth\, VA\, 23704\, United States
GEO:36.8351265;-76.3011729
X-APPLE-STRUCTURED-LOCATION;VALUE=URI;X-ADDRESS=Trinity Episcopal Church 500 Court St. Portsmouth VA 23704 United States;X-APPLE-RADIUS=500;X-TITLE=500 Court St.:geo:-76.3011729,36.8351265
END:VEVENT
BEGIN:VEVENT
DTSTART;TZID=America/New_York:20240221T173000
DTEND;TZID=America/New_York:20240221T200000
DTSTAMP:20260421T182950
CREATED:20240125T134055Z
LAST-MODIFIED:20240131T155952Z
UID:10003592-1708536600-1708545600@trinityportsmouth.org
SUMMARY:Lenten Supper Series
DESCRIPTION:Join us on Wednesday evenings during Lent for a virtual journey through Israel. Fr. Grant will discuss the historical sites he visited on his tour across the country last year and how they play a role in modern and ancient history. The program will begin with Eucharist at 5:30 pm\, followed by dinner at 6 pm\, and discussion at 6:30 pm. Please come any time you are able and for any Wednesdays you are available. Use the link provided to sign up to bring a soup or bread to share for dinner.
URL:https://trinityportsmouth.org/event/lenten-supper-series/2024-02-21/
END:VEVENT
BEGIN:VEVENT
DTSTART;TZID=America/New_York:20240224T183000
DTEND;TZID=America/New_York:20240224T203000
DTSTAMP:20260421T182950
CREATED:20240124T193811Z
LAST-MODIFIED:20240124T193923Z
UID:10003589-1708799400-1708806600@trinityportsmouth.org
SUMMARY:Annual Murder Mystery Dinner
DESCRIPTION:Join us for one of our most fun nights of the year – our annual Murder Mystery Dinner! This year’s Champagne Mystery is set in London in 1967. Tickets for this fundraiser are $35 each or $60 for two. Doors open at 6 pm and dinner is at 6:30 pm. Purchase tickets using the link provided.
URL:https://trinityportsmouth.org/event/annual-murder-mystery-dinner/
END:VEVENT
END:VCALENDAR