BEGIN:VCALENDAR
VERSION:2.0
PRODID:-//Trinity Episcopal Church - ECPv6.15.20//NONSGML v1.0//EN
CALSCALE:GREGORIAN
METHOD:PUBLISH
X-ORIGINAL-URL:https://trinityportsmouth.org
X-WR-CALDESC:Events for Trinity Episcopal Church
REFRESH-INTERVAL;VALUE=DURATION:PT1H
X-Robots-Tag:noindex
X-PUBLISHED-TTL:PT1H
BEGIN:VTIMEZONE
TZID:America/New_York
BEGIN:DAYLIGHT
TZOFFSETFROM:-0500
TZOFFSETTO:-0400
TZNAME:EDT
DTSTART:20230312T070000
END:DAYLIGHT
BEGIN:STANDARD
TZOFFSETFROM:-0400
TZOFFSETTO:-0500
TZNAME:EST
DTSTART:20231105T060000
END:STANDARD
BEGIN:DAYLIGHT
TZOFFSETFROM:-0500
TZOFFSETTO:-0400
TZNAME:EDT
DTSTART:20240310T070000
END:DAYLIGHT
BEGIN:STANDARD
TZOFFSETFROM:-0400
TZOFFSETTO:-0500
TZNAME:EST
DTSTART:20241103T060000
END:STANDARD
BEGIN:DAYLIGHT
TZOFFSETFROM:-0500
TZOFFSETTO:-0400
TZNAME:EDT
DTSTART:20250309T070000
END:DAYLIGHT
BEGIN:STANDARD
TZOFFSETFROM:-0400
TZOFFSETTO:-0500
TZNAME:EST
DTSTART:20251102T060000
END:STANDARD
END:VTIMEZONE
BEGIN:VEVENT
DTSTART;TZID=America/New_York:20240204T080000
DTEND;TZID=America/New_York:20240204T090000
DTSTAMP:20260421T163824
CREATED:20231205T200245Z
LAST-MODIFIED:20231205T200254Z
UID:10003553-1707033600-1707037200@trinityportsmouth.org
SUMMARY:Holy Eucharist Rite I
DESCRIPTION:Holy Eucharist\, Rite I (Traditional Language) in All Saints’ Chapel  \n\n\n\nThis is a quiet/contemplative service with no music.
URL:https://trinityportsmouth.org/event/holy-eucharist-rite-i/2024-02-04/
LOCATION:Trinity Episcopal Church\, 500 Court St.\, Portsmouth\, VA\, 23704\, United States
GEO:36.8351265;-76.3011729
X-APPLE-STRUCTURED-LOCATION;VALUE=URI;X-ADDRESS=Trinity Episcopal Church 500 Court St. Portsmouth VA 23704 United States;X-APPLE-RADIUS=500;X-TITLE=500 Court St.:geo:-76.3011729,36.8351265
END:VEVENT
BEGIN:VEVENT
DTSTART;TZID=America/New_York:20240204T090000
DTEND;TZID=America/New_York:20240204T101500
DTSTAMP:20260421T163824
CREATED:20230912T124755Z
LAST-MODIFIED:20240611T160811Z
UID:10002946-1707037200-1707041700@trinityportsmouth.org
SUMMARY:Trinity Youth
DESCRIPTION:Children ages 12+ are invited to join us for fellowship on Sunday mornings!
URL:https://trinityportsmouth.org/event/trinity-youth-3/2024-02-04/
END:VEVENT
BEGIN:VEVENT
DTSTART;TZID=America/New_York:20240204T101500
DTEND;TZID=America/New_York:20240204T120000
DTSTAMP:20260421T163824
CREATED:20230404T184036Z
LAST-MODIFIED:20230404T184038Z
UID:10002587-1707041700-1707048000@trinityportsmouth.org
SUMMARY:Nursery
DESCRIPTION:Nursery is available for children 0-5 every Sunday.
URL:https://trinityportsmouth.org/event/nursery/2024-02-04/
LOCATION:Trinity Episcopal Church\, 500 Court St.\, Portsmouth\, VA\, 23704\, United States
GEO:36.8351265;-76.3011729
X-APPLE-STRUCTURED-LOCATION;VALUE=URI;X-ADDRESS=Trinity Episcopal Church 500 Court St. Portsmouth VA 23704 United States;X-APPLE-RADIUS=500;X-TITLE=500 Court St.:geo:-76.3011729,36.8351265
END:VEVENT
BEGIN:VEVENT
DTSTART;TZID=America/New_York:20240204T103000
DTEND;TZID=America/New_York:20240204T111500
DTSTAMP:20260421T163824
CREATED:20230911T185559Z
LAST-MODIFIED:20240611T160906Z
UID:10002884-1707042600-1707045300@trinityportsmouth.org
SUMMARY:Godly Play
DESCRIPTION:Godly Play is a Montessori-based curriculum that encourages children to wonder when they engage the stories of our Faith.  This is class is interactive and creative.  Godly Play is available for ages 5-11. For more information\, email kitty@trinity-portsmouth.org or visit godlyplayfoundation.org.
URL:https://trinityportsmouth.org/event/godly-play-4/2024-02-04/
LOCATION:Trinity Episcopal Church\, 500 Court St.\, Portsmouth\, VA\, 23704\, United States
GEO:36.8351265;-76.3011729
X-APPLE-STRUCTURED-LOCATION;VALUE=URI;X-ADDRESS=Trinity Episcopal Church 500 Court St. Portsmouth VA 23704 United States;X-APPLE-RADIUS=500;X-TITLE=500 Court St.:geo:-76.3011729,36.8351265
END:VEVENT
BEGIN:VEVENT
DTSTART;TZID=America/New_York:20240204T103000
DTEND;TZID=America/New_York:20240204T113000
DTSTAMP:20260421T163824
CREATED:20231205T194655Z
LAST-MODIFIED:20231205T195630Z
UID:10003451-1707042600-1707046200@trinityportsmouth.org
SUMMARY:Holy Eucharist\, Rite II
DESCRIPTION:Holy Eucharist\, Rite II with Choir and Organ. This service takes place in the Church and is attended by the majority of our parishioners.
URL:https://trinityportsmouth.org/event/holy-eucharist-rite-ii-5/2024-02-04/
LOCATION:Trinity Episcopal Church\, 500 Court St.\, Portsmouth\, VA\, 23704\, United States
GEO:36.8351265;-76.3011729
X-APPLE-STRUCTURED-LOCATION;VALUE=URI;X-ADDRESS=Trinity Episcopal Church 500 Court St. Portsmouth VA 23704 United States;X-APPLE-RADIUS=500;X-TITLE=500 Court St.:geo:-76.3011729,36.8351265
END:VEVENT
BEGIN:VEVENT
DTSTART;TZID=America/New_York:20240204T120000
DTEND;TZID=America/New_York:20240204T120000
DTSTAMP:20260421T163824
CREATED:20230912T174052Z
LAST-MODIFIED:20230912T174054Z
UID:10003001-1707048000-1707048000@trinityportsmouth.org
SUMMARY:Hospitality Meeting
DESCRIPTION:Join our Hospitality Guild as they plan for upcoming events.
URL:https://trinityportsmouth.org/event/hospitality-meeting-2/2024-02-04/
END:VEVENT
BEGIN:VEVENT
DTSTART;TZID=America/New_York:20240204T160000
DTEND;TZID=America/New_York:20240204T170000
DTSTAMP:20260421T163824
CREATED:20240123T152816Z
LAST-MODIFIED:20240123T152816Z
UID:10003588-1707062400-1707066000@trinityportsmouth.org
SUMMARY:The Virginia Chorale Presents: The Three Bs
DESCRIPTION:Bach\, Beethoven\, and Brahms? Nope\, it’s The Beatles\, Beach Boys\, andBurt Bacharach – three “Bs” of the 1960s! Get groovy and join theVirginia Chorale for a throwback concert of your favorite songs. \n\n\n\nHumming is allowed!
URL:https://trinityportsmouth.org/event/the-virginia-chorale-presents-the-three-bs/
END:VEVENT
BEGIN:VEVENT
DTSTART;TZID=America/New_York:20240210T100000
DTEND;TZID=America/New_York:20240210T120000
DTSTAMP:20260421T163824
CREATED:20240207T191528Z
LAST-MODIFIED:20240207T192034Z
UID:10003599-1707559200-1707566400@trinityportsmouth.org
SUMMARY:Create Class - Learn to Crochet
DESCRIPTION:Create Class will meet February 10 with guest teacher Mindy Skipper. Adults\, teens\, and interested children ages 8+ are invited to learn more about crochet from 10 am to noon. Participants must RSVP in advance and pay $10 for supplies. Find the link to sign up in our eNews on our website/social media. Create Class is for all ages! Look for our Kids Create classes returning in March.
URL:https://trinityportsmouth.org/event/create-class-learn-to-crochet/
END:VEVENT
END:VCALENDAR