BEGIN:VCALENDAR
VERSION:2.0
PRODID:-//Trinity Episcopal Church - ECPv6.15.20//NONSGML v1.0//EN
CALSCALE:GREGORIAN
METHOD:PUBLISH
X-ORIGINAL-URL:https://trinityportsmouth.org
X-WR-CALDESC:Events for Trinity Episcopal Church
REFRESH-INTERVAL;VALUE=DURATION:PT1H
X-Robots-Tag:noindex
X-PUBLISHED-TTL:PT1H
BEGIN:VTIMEZONE
TZID:America/New_York
BEGIN:DAYLIGHT
TZOFFSETFROM:-0500
TZOFFSETTO:-0400
TZNAME:EDT
DTSTART:20220313T070000
END:DAYLIGHT
BEGIN:STANDARD
TZOFFSETFROM:-0400
TZOFFSETTO:-0500
TZNAME:EST
DTSTART:20221106T060000
END:STANDARD
BEGIN:DAYLIGHT
TZOFFSETFROM:-0500
TZOFFSETTO:-0400
TZNAME:EDT
DTSTART:20230312T070000
END:DAYLIGHT
BEGIN:STANDARD
TZOFFSETFROM:-0400
TZOFFSETTO:-0500
TZNAME:EST
DTSTART:20231105T060000
END:STANDARD
BEGIN:DAYLIGHT
TZOFFSETFROM:-0500
TZOFFSETTO:-0400
TZNAME:EDT
DTSTART:20240310T070000
END:DAYLIGHT
BEGIN:STANDARD
TZOFFSETFROM:-0400
TZOFFSETTO:-0500
TZNAME:EST
DTSTART:20241103T060000
END:STANDARD
END:VTIMEZONE
BEGIN:VEVENT
DTSTART;TZID=America/New_York:20231112T080000
DTEND;TZID=America/New_York:20231112T090000
DTSTAMP:20260423T065052
CREATED:20231205T195314Z
LAST-MODIFIED:20231205T200105Z
UID:10003505-1699776000-1699779600@trinityportsmouth.org
SUMMARY:Holy Eucharist Rite I
DESCRIPTION:Holy Eucharist\, Rite I (Traditional Language) in All Saints’ Chapel  \n\n\n\nThis is a quiet/contemplative service with no music.
URL:https://trinityportsmouth.org/event/holy-eucharist-rite-i-4/2023-11-12/
LOCATION:Trinity Episcopal Church\, 500 Court St.\, Portsmouth\, VA\, 23704\, United States
GEO:36.8351265;-76.3011729
X-APPLE-STRUCTURED-LOCATION;VALUE=URI;X-ADDRESS=Trinity Episcopal Church 500 Court St. Portsmouth VA 23704 United States;X-APPLE-RADIUS=500;X-TITLE=500 Court St.:geo:-76.3011729,36.8351265
END:VEVENT
BEGIN:VEVENT
DTSTART;TZID=America/New_York:20231112T090000
DTEND;TZID=America/New_York:20231112T100000
DTSTAMP:20260423T065052
CREATED:20230911T183754Z
LAST-MODIFIED:20231205T200523Z
UID:10002779-1699779600-1699783200@trinityportsmouth.org
SUMMARY:Adult Formation and Bible Study
DESCRIPTION:Join us in the Parish Hall on Sunday mornings for Adult Formation and in the Common Room for Bible Study.
URL:https://trinityportsmouth.org/event/adult-formation-and-bible-study/2023-11-12/
END:VEVENT
BEGIN:VEVENT
DTSTART;TZID=America/New_York:20231112T090000
DTEND;TZID=America/New_York:20231112T101500
DTSTAMP:20260423T065052
CREATED:20230912T124755Z
LAST-MODIFIED:20240611T160811Z
UID:10002934-1699779600-1699784100@trinityportsmouth.org
SUMMARY:Trinity Youth
DESCRIPTION:Children ages 12+ are invited to join us for fellowship on Sunday mornings!
URL:https://trinityportsmouth.org/event/trinity-youth-3/2023-11-12/
END:VEVENT
BEGIN:VEVENT
DTSTART;TZID=America/New_York:20231112T101500
DTEND;TZID=America/New_York:20231112T120000
DTSTAMP:20260423T065052
CREATED:20230404T184036Z
LAST-MODIFIED:20230404T184038Z
UID:10002575-1699784100-1699790400@trinityportsmouth.org
SUMMARY:Nursery
DESCRIPTION:Nursery is available for children 0-5 every Sunday.
URL:https://trinityportsmouth.org/event/nursery/2023-11-12/
LOCATION:Trinity Episcopal Church\, 500 Court St.\, Portsmouth\, VA\, 23704\, United States
GEO:36.8351265;-76.3011729
X-APPLE-STRUCTURED-LOCATION;VALUE=URI;X-ADDRESS=Trinity Episcopal Church 500 Court St. Portsmouth VA 23704 United States;X-APPLE-RADIUS=500;X-TITLE=500 Court St.:geo:-76.3011729,36.8351265
END:VEVENT
BEGIN:VEVENT
DTSTART;TZID=America/New_York:20231112T103000
DTEND;TZID=America/New_York:20231112T111500
DTSTAMP:20260423T065052
CREATED:20230911T185559Z
LAST-MODIFIED:20240611T160906Z
UID:10002872-1699785000-1699787700@trinityportsmouth.org
SUMMARY:Godly Play
DESCRIPTION:Godly Play is a Montessori-based curriculum that encourages children to wonder when they engage the stories of our Faith.  This is class is interactive and creative.  Godly Play is available for ages 5-11. For more information\, email kitty@trinity-portsmouth.org or visit godlyplayfoundation.org.
URL:https://trinityportsmouth.org/event/godly-play-4/2023-11-12/
LOCATION:Trinity Episcopal Church\, 500 Court St.\, Portsmouth\, VA\, 23704\, United States
GEO:36.8351265;-76.3011729
X-APPLE-STRUCTURED-LOCATION;VALUE=URI;X-ADDRESS=Trinity Episcopal Church 500 Court St. Portsmouth VA 23704 United States;X-APPLE-RADIUS=500;X-TITLE=500 Court St.:geo:-76.3011729,36.8351265
END:VEVENT
BEGIN:VEVENT
DTSTART;TZID=America/New_York:20231112T120000
DTEND;TZID=America/New_York:20231112T130000
DTSTAMP:20260423T065052
CREATED:20230912T173951Z
LAST-MODIFIED:20230912T173952Z
UID:10002996-1699790400-1699794000@trinityportsmouth.org
SUMMARY:Property Committee Meeting
DESCRIPTION:Members of the property committee meet monthly on the second Sunday.
URL:https://trinityportsmouth.org/event/property-committee-meeting-2/
END:VEVENT
BEGIN:VEVENT
DTSTART;TZID=America/New_York:20231112T120000
DTEND;TZID=America/New_York:20231112T130000
DTSTAMP:20260423T065052
CREATED:20231026T203009Z
LAST-MODIFIED:20231026T203055Z
UID:10003087-1699790400-1699794000@trinityportsmouth.org
SUMMARY:Property Committee Meeting
DESCRIPTION:Members of the property committee meet monthly on the second Sunday.
URL:https://trinityportsmouth.org/event/property-committee-meeting-3/2023-11-12/
END:VEVENT
BEGIN:VEVENT
DTSTART;TZID=America/New_York:20231115T113000
DTEND;TZID=America/New_York:20231115T130000
DTSTAMP:20260423T065052
CREATED:20231026T205855Z
LAST-MODIFIED:20231026T205857Z
UID:10003147-1700047800-1700053200@trinityportsmouth.org
SUMMARY:Legends Lunch
DESCRIPTION:Seniors are welcome to join us for Eucharist at 11:30 am\, followed by luncheon and fellowship.
URL:https://trinityportsmouth.org/event/legends-lunch-3/
END:VEVENT
BEGIN:VEVENT
DTSTART;TZID=America/New_York:20231116T063000
DTEND;TZID=America/New_York:20231116T200000
DTSTAMP:20260423T065052
CREATED:20231026T210232Z
LAST-MODIFIED:20231026T210234Z
UID:10003148-1700116200-1700164800@trinityportsmouth.org
SUMMARY:Olde Towne Civic League Meeting
DESCRIPTION:Members of the Olde Towne Portsmouth Civic League meet monthly on the third Thursday evening of each month\, except for July and December.
URL:https://trinityportsmouth.org/event/olde-towne-civic-league-meeting/
END:VEVENT
BEGIN:VEVENT
DTSTART;TZID=America/New_York:20231118T160000
DTEND;TZID=America/New_York:20231118T190000
DTSTAMP:20260423T065052
CREATED:20231103T200357Z
LAST-MODIFIED:20231103T200400Z
UID:10003151-1700323200-1700334000@trinityportsmouth.org
SUMMARY:Oyster Roast
DESCRIPTION:Join us for an Oyster Roast fundraiser to help us bring our Parish House up to date with ADA standards. \n\n\n\nTickets are $50 per person or $90 per couple. This event is for adults ages 21 and older. Included in the ticket price are oysters\, grilled chicken\, sides\, dessert\, and wine/beer. Purchase tickets here. \n\n\n\n\n\n\n\nChildcare will be available separate from the oyster event. We will host children ages 13 and younger for a pizza and movie night in the Parish Hall for $5 per kid payable in cash or via Venmo the night of the event. RSVP kids separately to kitty@trinity-portsmouth.org
URL:https://trinityportsmouth.org/event/oyster-roast/
END:VEVENT
END:VCALENDAR