BEGIN:VCALENDAR
VERSION:2.0
PRODID:-//Trinity Episcopal Church - ECPv6.15.20//NONSGML v1.0//EN
CALSCALE:GREGORIAN
METHOD:PUBLISH
X-ORIGINAL-URL:https://trinityportsmouth.org
X-WR-CALDESC:Events for Trinity Episcopal Church
REFRESH-INTERVAL;VALUE=DURATION:PT1H
X-Robots-Tag:noindex
X-PUBLISHED-TTL:PT1H
BEGIN:VTIMEZONE
TZID:America/New_York
BEGIN:DAYLIGHT
TZOFFSETFROM:-0500
TZOFFSETTO:-0400
TZNAME:EDT
DTSTART:20220313T070000
END:DAYLIGHT
BEGIN:STANDARD
TZOFFSETFROM:-0400
TZOFFSETTO:-0500
TZNAME:EST
DTSTART:20221106T060000
END:STANDARD
BEGIN:DAYLIGHT
TZOFFSETFROM:-0500
TZOFFSETTO:-0400
TZNAME:EDT
DTSTART:20230312T070000
END:DAYLIGHT
BEGIN:STANDARD
TZOFFSETFROM:-0400
TZOFFSETTO:-0500
TZNAME:EST
DTSTART:20231105T060000
END:STANDARD
BEGIN:DAYLIGHT
TZOFFSETFROM:-0500
TZOFFSETTO:-0400
TZNAME:EDT
DTSTART:20240310T070000
END:DAYLIGHT
BEGIN:STANDARD
TZOFFSETFROM:-0400
TZOFFSETTO:-0500
TZNAME:EST
DTSTART:20241103T060000
END:STANDARD
END:VTIMEZONE
BEGIN:VEVENT
DTSTART;TZID=America/New_York:20231105T080000
DTEND;TZID=America/New_York:20231105T090000
DTSTAMP:20260421T094233
CREATED:20231205T195314Z
LAST-MODIFIED:20231205T200105Z
UID:10003504-1699171200-1699174800@trinityportsmouth.org
SUMMARY:Holy Eucharist Rite I
DESCRIPTION:Holy Eucharist\, Rite I (Traditional Language) in All Saints’ Chapel  \n\n\n\nThis is a quiet/contemplative service with no music.
URL:https://trinityportsmouth.org/event/holy-eucharist-rite-i-4/2023-11-05/
LOCATION:Trinity Episcopal Church\, 500 Court St.\, Portsmouth\, VA\, 23704\, United States
GEO:36.8351265;-76.3011729
X-APPLE-STRUCTURED-LOCATION;VALUE=URI;X-ADDRESS=Trinity Episcopal Church 500 Court St. Portsmouth VA 23704 United States;X-APPLE-RADIUS=500;X-TITLE=500 Court St.:geo:-76.3011729,36.8351265
END:VEVENT
BEGIN:VEVENT
DTSTART;TZID=America/New_York:20231105T080000
DTEND;TZID=America/New_York:20231105T103000
DTSTAMP:20260421T094233
CREATED:20231026T202348Z
LAST-MODIFIED:20231026T202350Z
UID:10003084-1699171200-1699180200@trinityportsmouth.org
SUMMARY:Baptism
DESCRIPTION:Join us for baptism during our 8 am and 10:30 am Eucharists.
URL:https://trinityportsmouth.org/event/baptism/
END:VEVENT
BEGIN:VEVENT
DTSTART;TZID=America/New_York:20231105T090000
DTEND;TZID=America/New_York:20231105T100000
DTSTAMP:20260421T094233
CREATED:20230911T183754Z
LAST-MODIFIED:20231205T200523Z
UID:10002778-1699174800-1699178400@trinityportsmouth.org
SUMMARY:Adult Formation and Bible Study
DESCRIPTION:Join us in the Parish Hall on Sunday mornings for Adult Formation and in the Common Room for Bible Study.
URL:https://trinityportsmouth.org/event/adult-formation-and-bible-study/2023-11-05/
END:VEVENT
BEGIN:VEVENT
DTSTART;TZID=America/New_York:20231105T090000
DTEND;TZID=America/New_York:20231105T101500
DTSTAMP:20260421T094233
CREATED:20230912T124755Z
LAST-MODIFIED:20240611T160811Z
UID:10002933-1699174800-1699179300@trinityportsmouth.org
SUMMARY:Trinity Youth
DESCRIPTION:Children ages 12+ are invited to join us for fellowship on Sunday mornings!
URL:https://trinityportsmouth.org/event/trinity-youth-3/2023-11-05/
END:VEVENT
BEGIN:VEVENT
DTSTART;TZID=America/New_York:20231105T101500
DTEND;TZID=America/New_York:20231105T120000
DTSTAMP:20260421T094233
CREATED:20230404T184036Z
LAST-MODIFIED:20230404T184038Z
UID:10002574-1699179300-1699185600@trinityportsmouth.org
SUMMARY:Nursery
DESCRIPTION:Nursery is available for children 0-5 every Sunday.
URL:https://trinityportsmouth.org/event/nursery/2023-11-05/
LOCATION:Trinity Episcopal Church\, 500 Court St.\, Portsmouth\, VA\, 23704\, United States
GEO:36.8351265;-76.3011729
X-APPLE-STRUCTURED-LOCATION;VALUE=URI;X-ADDRESS=Trinity Episcopal Church 500 Court St. Portsmouth VA 23704 United States;X-APPLE-RADIUS=500;X-TITLE=500 Court St.:geo:-76.3011729,36.8351265
END:VEVENT
BEGIN:VEVENT
DTSTART;TZID=America/New_York:20231105T103000
DTEND;TZID=America/New_York:20231105T103000
DTSTAMP:20260421T094233
CREATED:20231026T202124Z
LAST-MODIFIED:20231026T202126Z
UID:10003083-1699180200-1699180200@trinityportsmouth.org
SUMMARY:All Saints Pageant
DESCRIPTION:Join us for our annual All Saints Pageant during out 10:30 am Eucharist. Children are invited to dress as saints! Email kitty@trinity-portsmouth.org for more information.
URL:https://trinityportsmouth.org/event/all-saints-pageant/
END:VEVENT
BEGIN:VEVENT
DTSTART;TZID=America/New_York:20231105T103000
DTEND;TZID=America/New_York:20231105T111500
DTSTAMP:20260421T094233
CREATED:20230911T185559Z
LAST-MODIFIED:20240611T160906Z
UID:10002871-1699180200-1699182900@trinityportsmouth.org
SUMMARY:Godly Play
DESCRIPTION:Godly Play is a Montessori-based curriculum that encourages children to wonder when they engage the stories of our Faith.  This is class is interactive and creative.  Godly Play is available for ages 5-11. For more information\, email kitty@trinity-portsmouth.org or visit godlyplayfoundation.org.
URL:https://trinityportsmouth.org/event/godly-play-4/2023-11-05/
LOCATION:Trinity Episcopal Church\, 500 Court St.\, Portsmouth\, VA\, 23704\, United States
GEO:36.8351265;-76.3011729
X-APPLE-STRUCTURED-LOCATION;VALUE=URI;X-ADDRESS=Trinity Episcopal Church 500 Court St. Portsmouth VA 23704 United States;X-APPLE-RADIUS=500;X-TITLE=500 Court St.:geo:-76.3011729,36.8351265
END:VEVENT
BEGIN:VEVENT
DTSTART;TZID=America/New_York:20231105T120000
DTEND;TZID=America/New_York:20231105T120000
DTSTAMP:20260421T094233
CREATED:20230912T174052Z
LAST-MODIFIED:20230912T174054Z
UID:10002998-1699185600-1699185600@trinityportsmouth.org
SUMMARY:Hospitality Meeting
DESCRIPTION:Join our Hospitality Guild as they plan for upcoming events.
URL:https://trinityportsmouth.org/event/hospitality-meeting-2/2023-11-05/
END:VEVENT
BEGIN:VEVENT
DTSTART;TZID=America/New_York:20231105T170000
DTEND;TZID=America/New_York:20231105T170000
DTSTAMP:20260421T094233
CREATED:20231026T202549Z
LAST-MODIFIED:20231026T202551Z
UID:10003085-1699203600-1699203600@trinityportsmouth.org
SUMMARY:All Souls' Evensong
DESCRIPTION:Evensong is a unique part of our Anglican heritage with its offering of a liturgical\, architectural\, and musical space into which we may bring our anxieties\, preoccupations\, and grief to hold them together with a recollection of the God whose saving acts we celebrate. Join us for All Souls’ Evensong November 5 to remember those we’ve lost. 
URL:https://trinityportsmouth.org/event/all-souls-evensong/
END:VEVENT
BEGIN:VEVENT
DTSTART;TZID=America/New_York:20231110T080000
DTEND;TZID=America/New_York:20231110T170000
DTSTAMP:20260421T094233
CREATED:20231026T202712Z
LAST-MODIFIED:20231026T202714Z
UID:10003086-1699603200-1699635600@trinityportsmouth.org
SUMMARY:Offices close for Veterans Day
DESCRIPTION:
URL:https://trinityportsmouth.org/event/offices-close-for-veterans-day/
END:VEVENT
END:VCALENDAR