BEGIN:VCALENDAR
VERSION:2.0
PRODID:-//Trinity Episcopal Church - ECPv6.15.20//NONSGML v1.0//EN
CALSCALE:GREGORIAN
METHOD:PUBLISH
X-ORIGINAL-URL:https://trinityportsmouth.org
X-WR-CALDESC:Events for Trinity Episcopal Church
REFRESH-INTERVAL;VALUE=DURATION:PT1H
X-Robots-Tag:noindex
X-PUBLISHED-TTL:PT1H
BEGIN:VTIMEZONE
TZID:America/New_York
BEGIN:DAYLIGHT
TZOFFSETFROM:-0500
TZOFFSETTO:-0400
TZNAME:EDT
DTSTART:20220313T070000
END:DAYLIGHT
BEGIN:STANDARD
TZOFFSETFROM:-0400
TZOFFSETTO:-0500
TZNAME:EST
DTSTART:20221106T060000
END:STANDARD
BEGIN:DAYLIGHT
TZOFFSETFROM:-0500
TZOFFSETTO:-0400
TZNAME:EDT
DTSTART:20230312T070000
END:DAYLIGHT
BEGIN:STANDARD
TZOFFSETFROM:-0400
TZOFFSETTO:-0500
TZNAME:EST
DTSTART:20231105T060000
END:STANDARD
BEGIN:DAYLIGHT
TZOFFSETFROM:-0500
TZOFFSETTO:-0400
TZNAME:EDT
DTSTART:20240310T070000
END:DAYLIGHT
BEGIN:STANDARD
TZOFFSETFROM:-0400
TZOFFSETTO:-0500
TZNAME:EST
DTSTART:20241103T060000
END:STANDARD
END:VTIMEZONE
BEGIN:VEVENT
DTSTART;TZID=America/New_York:20231008T080000
DTEND;TZID=America/New_York:20231008T090000
DTSTAMP:20260421T052114
CREATED:20231205T195314Z
LAST-MODIFIED:20231205T200105Z
UID:10003500-1696752000-1696755600@trinityportsmouth.org
SUMMARY:Holy Eucharist Rite I
DESCRIPTION:Holy Eucharist\, Rite I (Traditional Language) in All Saints’ Chapel  \n\n\n\nThis is a quiet/contemplative service with no music.
URL:https://trinityportsmouth.org/event/holy-eucharist-rite-i-4/2023-10-08/
LOCATION:Trinity Episcopal Church\, 500 Court St.\, Portsmouth\, VA\, 23704\, United States
GEO:36.8351265;-76.3011729
X-APPLE-STRUCTURED-LOCATION;VALUE=URI;X-ADDRESS=Trinity Episcopal Church 500 Court St. Portsmouth VA 23704 United States;X-APPLE-RADIUS=500;X-TITLE=500 Court St.:geo:-76.3011729,36.8351265
END:VEVENT
BEGIN:VEVENT
DTSTART;TZID=America/New_York:20231008T090000
DTEND;TZID=America/New_York:20231008T100000
DTSTAMP:20260421T052114
CREATED:20230911T183754Z
LAST-MODIFIED:20231205T200523Z
UID:10002774-1696755600-1696759200@trinityportsmouth.org
SUMMARY:Adult Formation and Bible Study
DESCRIPTION:Join us in the Parish Hall on Sunday mornings for Adult Formation and in the Common Room for Bible Study.
URL:https://trinityportsmouth.org/event/adult-formation-and-bible-study/2023-10-08/
END:VEVENT
BEGIN:VEVENT
DTSTART;TZID=America/New_York:20231008T101500
DTEND;TZID=America/New_York:20231008T120000
DTSTAMP:20260421T052114
CREATED:20230404T184036Z
LAST-MODIFIED:20230404T184038Z
UID:10002570-1696760100-1696766400@trinityportsmouth.org
SUMMARY:Nursery
DESCRIPTION:Nursery is available for children 0-5 every Sunday.
URL:https://trinityportsmouth.org/event/nursery/2023-10-08/
LOCATION:Trinity Episcopal Church\, 500 Court St.\, Portsmouth\, VA\, 23704\, United States
GEO:36.8351265;-76.3011729
X-APPLE-STRUCTURED-LOCATION;VALUE=URI;X-ADDRESS=Trinity Episcopal Church 500 Court St. Portsmouth VA 23704 United States;X-APPLE-RADIUS=500;X-TITLE=500 Court St.:geo:-76.3011729,36.8351265
END:VEVENT
BEGIN:VEVENT
DTSTART;TZID=America/New_York:20231008T120000
DTEND;TZID=America/New_York:20231008T130000
DTSTAMP:20260421T052114
CREATED:20230912T173802Z
LAST-MODIFIED:20230912T173856Z
UID:10002995-1696766400-1696770000@trinityportsmouth.org
SUMMARY:Property Committee Meeting
DESCRIPTION:Members of the property committee meet monthly on the second Sunday.
URL:https://trinityportsmouth.org/event/property-committee-meeting/
END:VEVENT
BEGIN:VEVENT
DTSTART;TZID=America/New_York:20231013T100000
DTEND;TZID=America/New_York:20231014T160000
DTSTAMP:20260421T052114
CREATED:20230912T124545Z
LAST-MODIFIED:20230927T175205Z
UID:10002927-1697191200-1697299200@trinityportsmouth.org
SUMMARY:Fall Fest
DESCRIPTION:Join us for our annual Fall Fest October 13 and 14 from 10 am to 4 pm. \n\n\n\nLunch will be available to purchase in the Parish Hall from 11:30 am to 1 pm on October 13. \n\n\n\nShop our Silent Auction\, Elegant Elephant\, Bookstore\, and Pre-Loved Clothing Boutique. Take home cookies\, cakes\, pies\, and breads from our Bake Shop and homemade soups\, Brunswick Stew\, jams\, and more from our Country Store. \n\n\n\nContact us at admin@trinity-portsmouth.org for more information.
URL:https://trinityportsmouth.org/event/fall-fest/
END:VEVENT
END:VCALENDAR