BEGIN:VCALENDAR
VERSION:2.0
PRODID:-//Trinity Episcopal Church - ECPv6.15.20//NONSGML v1.0//EN
CALSCALE:GREGORIAN
METHOD:PUBLISH
X-ORIGINAL-URL:https://trinityportsmouth.org
X-WR-CALDESC:Events for Trinity Episcopal Church
REFRESH-INTERVAL;VALUE=DURATION:PT1H
X-Robots-Tag:noindex
X-PUBLISHED-TTL:PT1H
BEGIN:VTIMEZONE
TZID:America/New_York
BEGIN:DAYLIGHT
TZOFFSETFROM:-0500
TZOFFSETTO:-0400
TZNAME:EDT
DTSTART:20220313T070000
END:DAYLIGHT
BEGIN:STANDARD
TZOFFSETFROM:-0400
TZOFFSETTO:-0500
TZNAME:EST
DTSTART:20221106T060000
END:STANDARD
BEGIN:DAYLIGHT
TZOFFSETFROM:-0500
TZOFFSETTO:-0400
TZNAME:EDT
DTSTART:20230312T070000
END:DAYLIGHT
BEGIN:STANDARD
TZOFFSETFROM:-0400
TZOFFSETTO:-0500
TZNAME:EST
DTSTART:20231105T060000
END:STANDARD
BEGIN:DAYLIGHT
TZOFFSETFROM:-0500
TZOFFSETTO:-0400
TZNAME:EDT
DTSTART:20240310T070000
END:DAYLIGHT
BEGIN:STANDARD
TZOFFSETFROM:-0400
TZOFFSETTO:-0500
TZNAME:EST
DTSTART:20241103T060000
END:STANDARD
END:VTIMEZONE
BEGIN:VEVENT
DTSTART;TZID=America/New_York:20230827T080000
DTEND;TZID=America/New_York:20230827T090000
DTSTAMP:20260421T094148
CREATED:20231205T195314Z
LAST-MODIFIED:20231205T200105Z
UID:10003494-1693123200-1693126800@trinityportsmouth.org
SUMMARY:Holy Eucharist Rite I
DESCRIPTION:Holy Eucharist\, Rite I (Traditional Language) in All Saints’ Chapel  \n\n\n\nThis is a quiet/contemplative service with no music.
URL:https://trinityportsmouth.org/event/holy-eucharist-rite-i-4/2023-08-27/
LOCATION:Trinity Episcopal Church\, 500 Court St.\, Portsmouth\, VA\, 23704\, United States
GEO:36.8351265;-76.3011729
X-APPLE-STRUCTURED-LOCATION;VALUE=URI;X-ADDRESS=Trinity Episcopal Church 500 Court St. Portsmouth VA 23704 United States;X-APPLE-RADIUS=500;X-TITLE=500 Court St.:geo:-76.3011729,36.8351265
END:VEVENT
BEGIN:VEVENT
DTSTART;TZID=America/New_York:20230827T101500
DTEND;TZID=America/New_York:20230827T110000
DTSTAMP:20260421T094148
CREATED:20230404T184515Z
LAST-MODIFIED:20230404T184516Z
UID:10002615-1693131300-1693134000@trinityportsmouth.org
SUMMARY:Godly Play
DESCRIPTION:Godly Play is a Montessori based curriculum that encourages children to wonder when they engage the stories of our Faith.  This is class is interactive and creative.  Godly Play is available for ages 5-12.
URL:https://trinityportsmouth.org/event/godly-play-2/2023-08-27/
LOCATION:Trinity Episcopal Church\, 500 Court St.\, Portsmouth\, VA\, 23704\, United States
GEO:36.8351265;-76.3011729
X-APPLE-STRUCTURED-LOCATION;VALUE=URI;X-ADDRESS=Trinity Episcopal Church 500 Court St. Portsmouth VA 23704 United States;X-APPLE-RADIUS=500;X-TITLE=500 Court St.:geo:-76.3011729,36.8351265
END:VEVENT
BEGIN:VEVENT
DTSTART;TZID=America/New_York:20230827T101500
DTEND;TZID=America/New_York:20230827T120000
DTSTAMP:20260421T094148
CREATED:20230404T184036Z
LAST-MODIFIED:20230404T184038Z
UID:10002564-1693131300-1693137600@trinityportsmouth.org
SUMMARY:Nursery
DESCRIPTION:Nursery is available for children 0-5 every Sunday.
URL:https://trinityportsmouth.org/event/nursery/2023-08-27/
LOCATION:Trinity Episcopal Church\, 500 Court St.\, Portsmouth\, VA\, 23704\, United States
GEO:36.8351265;-76.3011729
X-APPLE-STRUCTURED-LOCATION;VALUE=URI;X-ADDRESS=Trinity Episcopal Church 500 Court St. Portsmouth VA 23704 United States;X-APPLE-RADIUS=500;X-TITLE=500 Court St.:geo:-76.3011729,36.8351265
END:VEVENT
BEGIN:VEVENT
DTSTART;TZID=America/New_York:20230827T114500
DTEND;TZID=America/New_York:20230827T133000
DTSTAMP:20260421T094148
CREATED:20230404T183053Z
LAST-MODIFIED:20230404T183055Z
UID:10002441-1693136700-1693143000@trinityportsmouth.org
SUMMARY:Vestry Meeting
DESCRIPTION:Trinity’s monthly Vestry meeting is held the third Sunday of the month after the 10:30am service.  All are welcome to join. If you would like to add things to our agenda please email Fr Grant a week ahead of time at grant@trinity-portsmouth.org
URL:https://trinityportsmouth.org/event/vestry-meeting-2/2023-08-27/
LOCATION:Trinity Episcopal Church\, 500 Court St.\, Portsmouth\, VA\, 23704\, United States
ORGANIZER;CN="Fr Grant Stokes":MAILTO:grant@trinity-portsmouth.org
GEO:36.8351265;-76.3011729
X-APPLE-STRUCTURED-LOCATION;VALUE=URI;X-ADDRESS=Trinity Episcopal Church 500 Court St. Portsmouth VA 23704 United States;X-APPLE-RADIUS=500;X-TITLE=500 Court St.:geo:-76.3011729,36.8351265
END:VEVENT
END:VCALENDAR