BEGIN:VCALENDAR
VERSION:2.0
PRODID:-//Trinity Episcopal Church - ECPv6.15.20//NONSGML v1.0//EN
CALSCALE:GREGORIAN
METHOD:PUBLISH
X-WR-CALNAME:Trinity Episcopal Church
X-ORIGINAL-URL:https://trinityportsmouth.org
X-WR-CALDESC:Events for Trinity Episcopal Church
REFRESH-INTERVAL;VALUE=DURATION:PT1H
X-Robots-Tag:noindex
X-PUBLISHED-TTL:PT1H
BEGIN:VTIMEZONE
TZID:America/New_York
BEGIN:DAYLIGHT
TZOFFSETFROM:-0500
TZOFFSETTO:-0400
TZNAME:EDT
DTSTART:20220313T070000
END:DAYLIGHT
BEGIN:STANDARD
TZOFFSETFROM:-0400
TZOFFSETTO:-0500
TZNAME:EST
DTSTART:20221106T060000
END:STANDARD
BEGIN:DAYLIGHT
TZOFFSETFROM:-0500
TZOFFSETTO:-0400
TZNAME:EDT
DTSTART:20230312T070000
END:DAYLIGHT
BEGIN:STANDARD
TZOFFSETFROM:-0400
TZOFFSETTO:-0500
TZNAME:EST
DTSTART:20231105T060000
END:STANDARD
BEGIN:DAYLIGHT
TZOFFSETFROM:-0500
TZOFFSETTO:-0400
TZNAME:EDT
DTSTART:20240310T070000
END:DAYLIGHT
BEGIN:STANDARD
TZOFFSETFROM:-0400
TZOFFSETTO:-0500
TZNAME:EST
DTSTART:20241103T060000
END:STANDARD
END:VTIMEZONE
BEGIN:VEVENT
DTSTART;TZID=America/New_York:20230404T180000
DTEND;TZID=America/New_York:20230404T183000
DTSTAMP:20260425T214636
CREATED:20230404T175903Z
LAST-MODIFIED:20230404T175904Z
UID:10002426-1680631200-1680633000@trinityportsmouth.org
SUMMARY:Holy Week Eucharist
DESCRIPTION:Tuesday of Holy Week Eucharist in All Saints’ Chapel
URL:https://trinityportsmouth.org/event/holy-week-eucharist/
LOCATION:Trinity Episcopal Church\, 500 Court St.\, Portsmouth\, VA\, 23704\, United States
GEO:36.8351265;-76.3011729
X-APPLE-STRUCTURED-LOCATION;VALUE=URI;X-ADDRESS=Trinity Episcopal Church 500 Court St. Portsmouth VA 23704 United States;X-APPLE-RADIUS=500;X-TITLE=500 Court St.:geo:-76.3011729,36.8351265
END:VEVENT
BEGIN:VEVENT
DTSTART;TZID=America/New_York:20230405T180000
DTEND;TZID=America/New_York:20230405T183000
DTSTAMP:20260425T214636
CREATED:20230404T180038Z
LAST-MODIFIED:20230404T180040Z
UID:10002427-1680717600-1680719400@trinityportsmouth.org
SUMMARY:Holy Week Eucharist
DESCRIPTION:Wednesday of Holy Week Eucharist in All Saints’ Chapel
URL:https://trinityportsmouth.org/event/holy-week-eucharist-2/
LOCATION:Trinity Episcopal Church\, 500 Court St.\, Portsmouth\, VA\, 23704\, United States
GEO:36.8351265;-76.3011729
X-APPLE-STRUCTURED-LOCATION;VALUE=URI;X-ADDRESS=Trinity Episcopal Church 500 Court St. Portsmouth VA 23704 United States;X-APPLE-RADIUS=500;X-TITLE=500 Court St.:geo:-76.3011729,36.8351265
END:VEVENT
BEGIN:VEVENT
DTSTART;TZID=America/New_York:20230406T180000
DTEND;TZID=America/New_York:20230406T185000
DTSTAMP:20260425T214636
CREATED:20230404T180412Z
LAST-MODIFIED:20230404T180448Z
UID:10002429-1680804000-1680807000@trinityportsmouth.org
SUMMARY:Agape Meal
DESCRIPTION:Agape Meal in the Parish Hall. Please RSVP at this link: https://rsvp.church/r/ieFFTu3E
URL:https://trinityportsmouth.org/event/agape-meal/
LOCATION:Trinity Episcopal Church\, 500 Court St.\, Portsmouth\, VA\, 23704\, United States
GEO:36.8351265;-76.3011729
X-APPLE-STRUCTURED-LOCATION;VALUE=URI;X-ADDRESS=Trinity Episcopal Church 500 Court St. Portsmouth VA 23704 United States;X-APPLE-RADIUS=500;X-TITLE=500 Court St.:geo:-76.3011729,36.8351265
END:VEVENT
BEGIN:VEVENT
DTSTART;TZID=America/New_York:20230406T190000
DTEND;TZID=America/New_York:20230406T203000
DTSTAMP:20260425T214636
CREATED:20230404T180201Z
LAST-MODIFIED:20230404T180202Z
UID:10002428-1680807600-1680813000@trinityportsmouth.org
SUMMARY:Maundy Thursday Eucharist with Foot Washing
DESCRIPTION:Maundy Thursday Holy Eucharist with Foot Washing (foot washing is optional) in the Church.
URL:https://trinityportsmouth.org/event/maundy-thursday-eucharist-with-foot-washing/
LOCATION:Trinity Episcopal Church\, 500 Court St.\, Portsmouth\, VA\, 23704\, United States
GEO:36.8351265;-76.3011729
X-APPLE-STRUCTURED-LOCATION;VALUE=URI;X-ADDRESS=Trinity Episcopal Church 500 Court St. Portsmouth VA 23704 United States;X-APPLE-RADIUS=500;X-TITLE=500 Court St.:geo:-76.3011729,36.8351265
END:VEVENT
BEGIN:VEVENT
DTSTART;TZID=America/New_York:20230407T111500
DTEND;TZID=America/New_York:20230407T114500
DTSTAMP:20260425T214636
CREATED:20230404T180658Z
LAST-MODIFIED:20230404T180659Z
UID:10002430-1680866100-1680867900@trinityportsmouth.org
SUMMARY:Good Friday Stations of the Cross
DESCRIPTION:Good Friday Stations of the Cross. Weather permitting\, these devotions will take place outside. If raining\, the devotions will be observed in the Church.
URL:https://trinityportsmouth.org/event/good-friday-stations-of-the-cross/
LOCATION:Trinity Episcopal Church\, 500 Court St.\, Portsmouth\, VA\, 23704\, United States
GEO:36.8351265;-76.3011729
X-APPLE-STRUCTURED-LOCATION;VALUE=URI;X-ADDRESS=Trinity Episcopal Church 500 Court St. Portsmouth VA 23704 United States;X-APPLE-RADIUS=500;X-TITLE=500 Court St.:geo:-76.3011729,36.8351265
END:VEVENT
BEGIN:VEVENT
DTSTART;TZID=America/New_York:20230407T120000
DTEND;TZID=America/New_York:20230407T130000
DTSTAMP:20260425T214636
CREATED:20230404T180802Z
LAST-MODIFIED:20230404T180804Z
UID:10002431-1680868800-1680872400@trinityportsmouth.org
SUMMARY:Good Friday Propers with Holy Communion
DESCRIPTION:Good Friday service with Holy Communion from Reserved Sacrament. This service will take place in the Church.
URL:https://trinityportsmouth.org/event/good-friday-propers-with-holy-communion/
LOCATION:Trinity Episcopal Church\, 500 Court St.\, Portsmouth\, VA\, 23704\, United States
GEO:36.8351265;-76.3011729
X-APPLE-STRUCTURED-LOCATION;VALUE=URI;X-ADDRESS=Trinity Episcopal Church 500 Court St. Portsmouth VA 23704 United States;X-APPLE-RADIUS=500;X-TITLE=500 Court St.:geo:-76.3011729,36.8351265
END:VEVENT
BEGIN:VEVENT
DTSTART;TZID=America/New_York:20230408T130000
DTEND;TZID=America/New_York:20230408T143000
DTSTAMP:20260425T214636
CREATED:20230404T180925Z
LAST-MODIFIED:20230404T180926Z
UID:10002432-1680958800-1680964200@trinityportsmouth.org
SUMMARY:The Burial of the Dead\, Rite II Arthur Roger YBarra
DESCRIPTION:Service of Burial of the Dead\, Rite II with Holy Communion and Military Honors for Arthur Roger YBarra.  Reception to follow in the Parish Hall.
URL:https://trinityportsmouth.org/event/the-burial-of-the-dead-rite-ii-arthur-roger-ybarra/
LOCATION:Trinity Episcopal Church\, 500 Court St.\, Portsmouth\, VA\, 23704\, United States
GEO:36.8351265;-76.3011729
X-APPLE-STRUCTURED-LOCATION;VALUE=URI;X-ADDRESS=Trinity Episcopal Church 500 Court St. Portsmouth VA 23704 United States;X-APPLE-RADIUS=500;X-TITLE=500 Court St.:geo:-76.3011729,36.8351265
END:VEVENT
BEGIN:VEVENT
DTSTART;TZID=America/New_York:20230408T190000
DTEND;TZID=America/New_York:20230408T203000
DTSTAMP:20260425T214636
CREATED:20230404T181046Z
LAST-MODIFIED:20230404T181047Z
UID:10002433-1680980400-1680985800@trinityportsmouth.org
SUMMARY:The Great Vigil of Easter
DESCRIPTION:The Great Vigil and first Eucharist of Easter with Baptisms\, Confirmation\, Reception\, and Renewal of Baptismal Vows.  Bishop Susan Haynes will be the Celebrant at this service.
URL:https://trinityportsmouth.org/event/the-great-vigil-of-easter/
LOCATION:Trinity Episcopal Church\, 500 Court St.\, Portsmouth\, VA\, 23704\, United States
GEO:36.8351265;-76.3011729
X-APPLE-STRUCTURED-LOCATION;VALUE=URI;X-ADDRESS=Trinity Episcopal Church 500 Court St. Portsmouth VA 23704 United States;X-APPLE-RADIUS=500;X-TITLE=500 Court St.:geo:-76.3011729,36.8351265
END:VEVENT
END:VCALENDAR