BEGIN:VCALENDAR
VERSION:2.0
PRODID:-//Trinity Episcopal Church - ECPv6.15.20//NONSGML v1.0//EN
CALSCALE:GREGORIAN
METHOD:PUBLISH
X-WR-CALNAME:Trinity Episcopal Church
X-ORIGINAL-URL:https://trinityportsmouth.org
X-WR-CALDESC:Events for Trinity Episcopal Church
REFRESH-INTERVAL;VALUE=DURATION:PT1H
X-Robots-Tag:noindex
X-PUBLISHED-TTL:PT1H
BEGIN:VTIMEZONE
TZID:America/New_York
BEGIN:DAYLIGHT
TZOFFSETFROM:-0500
TZOFFSETTO:-0400
TZNAME:EDT
DTSTART:20240310T070000
END:DAYLIGHT
BEGIN:STANDARD
TZOFFSETFROM:-0400
TZOFFSETTO:-0500
TZNAME:EST
DTSTART:20241103T060000
END:STANDARD
BEGIN:DAYLIGHT
TZOFFSETFROM:-0500
TZOFFSETTO:-0400
TZNAME:EDT
DTSTART:20250309T070000
END:DAYLIGHT
BEGIN:STANDARD
TZOFFSETFROM:-0400
TZOFFSETTO:-0500
TZNAME:EST
DTSTART:20251102T060000
END:STANDARD
BEGIN:DAYLIGHT
TZOFFSETFROM:-0500
TZOFFSETTO:-0400
TZNAME:EDT
DTSTART:20260308T070000
END:DAYLIGHT
BEGIN:STANDARD
TZOFFSETFROM:-0400
TZOFFSETTO:-0500
TZNAME:EST
DTSTART:20261101T060000
END:STANDARD
END:VTIMEZONE
BEGIN:VEVENT
DTSTART;TZID=America/New_York:20250207T180000
DTEND;TZID=America/New_York:20250207T200000
DTSTAMP:20260423T134549
CREATED:20250122T141050Z
LAST-MODIFIED:20250122T141100Z
UID:10004385-1738951200-1738958400@trinityportsmouth.org
SUMMARY:Kids Valentine's Party!
DESCRIPTION:Kids ages infant to 12 are invited to join our teachers for an evening of crafts\, treats\, and fun! Email kitty@trinity-portsmouth.org for more information or to RSVP. All of our teachers are Safe Church trained and trained through the Portsmouth Public Schools Early Childhood Education Program.
URL:https://trinityportsmouth.org/event/kids-valentines-party/
END:VEVENT
END:VCALENDAR