BEGIN:VCALENDAR
VERSION:2.0
PRODID:-//Trinity Episcopal Church - ECPv6.15.20//NONSGML v1.0//EN
CALSCALE:GREGORIAN
METHOD:PUBLISH
X-WR-CALNAME:Trinity Episcopal Church
X-ORIGINAL-URL:https://trinityportsmouth.org
X-WR-CALDESC:Events for Trinity Episcopal Church
REFRESH-INTERVAL;VALUE=DURATION:PT1H
X-Robots-Tag:noindex
X-PUBLISHED-TTL:PT1H
BEGIN:VTIMEZONE
TZID:America/New_York
BEGIN:DAYLIGHT
TZOFFSETFROM:-0500
TZOFFSETTO:-0400
TZNAME:EDT
DTSTART:20230312T070000
END:DAYLIGHT
BEGIN:STANDARD
TZOFFSETFROM:-0400
TZOFFSETTO:-0500
TZNAME:EST
DTSTART:20231105T060000
END:STANDARD
BEGIN:DAYLIGHT
TZOFFSETFROM:-0500
TZOFFSETTO:-0400
TZNAME:EDT
DTSTART:20240310T070000
END:DAYLIGHT
BEGIN:STANDARD
TZOFFSETFROM:-0400
TZOFFSETTO:-0500
TZNAME:EST
DTSTART:20241103T060000
END:STANDARD
BEGIN:DAYLIGHT
TZOFFSETFROM:-0500
TZOFFSETTO:-0400
TZNAME:EDT
DTSTART:20250309T070000
END:DAYLIGHT
BEGIN:STANDARD
TZOFFSETFROM:-0400
TZOFFSETTO:-0500
TZNAME:EST
DTSTART:20251102T060000
END:STANDARD
END:VTIMEZONE
BEGIN:VEVENT
DTSTART;TZID=America/New_York:20240121T080000
DTEND;TZID=America/New_York:20240121T090000
DTSTAMP:20260423T082315
CREATED:20231205T200245Z
LAST-MODIFIED:20231205T200254Z
UID:10003551-1705824000-1705827600@trinityportsmouth.org
SUMMARY:Holy Eucharist Rite I
DESCRIPTION:Holy Eucharist\, Rite I (Traditional Language) in All Saints’ Chapel  \n\n\n\nThis is a quiet/contemplative service with no music.
URL:https://trinityportsmouth.org/event/holy-eucharist-rite-i/2024-01-21/
LOCATION:Trinity Episcopal Church\, 500 Court St.\, Portsmouth\, VA\, 23704\, United States
GEO:36.8351265;-76.3011729
X-APPLE-STRUCTURED-LOCATION;VALUE=URI;X-ADDRESS=Trinity Episcopal Church 500 Court St. Portsmouth VA 23704 United States;X-APPLE-RADIUS=500;X-TITLE=500 Court St.:geo:-76.3011729,36.8351265
END:VEVENT
BEGIN:VEVENT
DTSTART;TZID=America/New_York:20240121T090000
DTEND;TZID=America/New_York:20240121T101500
DTSTAMP:20260423T082315
CREATED:20230912T124755Z
LAST-MODIFIED:20240611T160811Z
UID:10002944-1705827600-1705832100@trinityportsmouth.org
SUMMARY:Trinity Youth
DESCRIPTION:Children ages 12+ are invited to join us for fellowship on Sunday mornings!
URL:https://trinityportsmouth.org/event/trinity-youth-3/2024-01-21/
END:VEVENT
BEGIN:VEVENT
DTSTART;TZID=America/New_York:20240121T101500
DTEND;TZID=America/New_York:20240121T120000
DTSTAMP:20260423T082315
CREATED:20230404T184036Z
LAST-MODIFIED:20230404T184038Z
UID:10002585-1705832100-1705838400@trinityportsmouth.org
SUMMARY:Nursery
DESCRIPTION:Nursery is available for children 0-5 every Sunday.
URL:https://trinityportsmouth.org/event/nursery/2024-01-21/
LOCATION:Trinity Episcopal Church\, 500 Court St.\, Portsmouth\, VA\, 23704\, United States
GEO:36.8351265;-76.3011729
X-APPLE-STRUCTURED-LOCATION;VALUE=URI;X-ADDRESS=Trinity Episcopal Church 500 Court St. Portsmouth VA 23704 United States;X-APPLE-RADIUS=500;X-TITLE=500 Court St.:geo:-76.3011729,36.8351265
END:VEVENT
BEGIN:VEVENT
DTSTART;TZID=America/New_York:20240121T103000
DTEND;TZID=America/New_York:20240121T111500
DTSTAMP:20260423T082315
CREATED:20230911T185559Z
LAST-MODIFIED:20240611T160906Z
UID:10002882-1705833000-1705835700@trinityportsmouth.org
SUMMARY:Godly Play
DESCRIPTION:Godly Play is a Montessori-based curriculum that encourages children to wonder when they engage the stories of our Faith.  This is class is interactive and creative.  Godly Play is available for ages 5-11. For more information\, email kitty@trinity-portsmouth.org or visit godlyplayfoundation.org.
URL:https://trinityportsmouth.org/event/godly-play-4/2024-01-21/
LOCATION:Trinity Episcopal Church\, 500 Court St.\, Portsmouth\, VA\, 23704\, United States
GEO:36.8351265;-76.3011729
X-APPLE-STRUCTURED-LOCATION;VALUE=URI;X-ADDRESS=Trinity Episcopal Church 500 Court St. Portsmouth VA 23704 United States;X-APPLE-RADIUS=500;X-TITLE=500 Court St.:geo:-76.3011729,36.8351265
END:VEVENT
BEGIN:VEVENT
DTSTART;TZID=America/New_York:20240121T103000
DTEND;TZID=America/New_York:20240121T113000
DTSTAMP:20260423T082315
CREATED:20231205T194655Z
LAST-MODIFIED:20231205T195630Z
UID:10003449-1705833000-1705836600@trinityportsmouth.org
SUMMARY:Holy Eucharist\, Rite II
DESCRIPTION:Holy Eucharist\, Rite II with Choir and Organ. This service takes place in the Church and is attended by the majority of our parishioners.
URL:https://trinityportsmouth.org/event/holy-eucharist-rite-ii-5/2024-01-21/
LOCATION:Trinity Episcopal Church\, 500 Court St.\, Portsmouth\, VA\, 23704\, United States
GEO:36.8351265;-76.3011729
X-APPLE-STRUCTURED-LOCATION;VALUE=URI;X-ADDRESS=Trinity Episcopal Church 500 Court St. Portsmouth VA 23704 United States;X-APPLE-RADIUS=500;X-TITLE=500 Court St.:geo:-76.3011729,36.8351265
END:VEVENT
END:VCALENDAR